BEGIN:VCALENDAR
VERSION:2.0
PRODID:-//Excel Academy Malaysia - HRD Corp Approved Training Provider - ECPv6.15.20//NONSGML v1.0//EN
CALSCALE:GREGORIAN
METHOD:PUBLISH
X-WR-CALNAME:Excel Academy Malaysia - HRD Corp Approved Training Provider
X-ORIGINAL-URL:https://www.excelacademy.my
X-WR-CALDESC:Events for Excel Academy Malaysia - HRD Corp Approved Training Provider
REFRESH-INTERVAL;VALUE=DURATION:PT1H
X-Robots-Tag:noindex
X-PUBLISHED-TTL:PT1H
BEGIN:VTIMEZONE
TZID:Asia/Kuala_Lumpur
BEGIN:STANDARD
TZOFFSETFROM:+0800
TZOFFSETTO:+0800
TZNAME:+08
DTSTART:20230101T000000
END:STANDARD
END:VTIMEZONE
BEGIN:VEVENT
DTSTART;TZID=Asia/Kuala_Lumpur:20240813T090000
DTEND;TZID=Asia/Kuala_Lumpur:20240814T170000
DTSTAMP:20260424T234630
CREATED:20240320T030037Z
LAST-MODIFIED:20240416T052720Z
UID:12872-1723539600-1723654800@www.excelacademy.my
SUMMARY:HRD Corp Claimable - Social Media Marketing
DESCRIPTION:Download the Course Brochure Link Here \nThis Social Media Marketing training is designed to provide participants with a comprehensive understanding of digital marketing principles and strategies\, with a specific focus on social media platforms. The course covers essential components such as content marketing\, social media conceptualization\, platform-specific strategies (Facebook\, Instagram\, LinkedIn\, TikTok)\, analytics interpretation\, and loyalty marketing. Participants will gain practical insights into creating effective digital marketing campaigns\, optimizing content\, and leveraging social media channels to achieve business goals. \nWhat will you learn in this  Social Media Marketing Training?\n• Grasp essential digital marketing principles and trends.\n• Master copywriting\, content creation\, and video marketing.\n• Understand online media\, analyze trends\, and choose effective channels.\n• Implement best practices\, create content strategies\, and navigate advertising.\n• Optimize profiles\, use ad formats\, and leverage TikTok for marketing.\n• Interpret insights\, calculate ROAS\, and refine strategies based on analytics.\n• Grasp loyalty marketing concepts\, identify loyal customers\, and develop sustained loyalty strategies. \nCourse Outline\nModule 1: UNDERSTANDING DIGITAL MEDIA MARKETING \n• Fundamentals of Digital Marketing\n• Components of Digital Marketing\n• Current trends and Opportunities in the field of Digital Marketing\n• The Social Media Audit\n• SOSTAC® Marketing and RACE® Model \nModule 2:CONTENT MARKETING \n• Content Marketing Essentials\n• Copywriting Techniques\n• Generating content ideas\n• Types of content writing\n• Content Format and repurposing\n• Video Marketing\n• Tools and Techniques for content marketing\n• Strategy & the Social Journey\n• Vision & Goals Setting\n• Choosing your channels – Developing Buyer’s Journey and Customer\nPersona \nModule 3: SOCIAL MEDIA MARKETING CONCEPTUALIZATION \n• How online media differs from other traditional media opportunities\n• Audience behaviour online: penetration rates\, trends\, challenges\n• Selecting the right channels\, formats\, and placements for your campaign\n• Key considerations to consider when briefing and developing ad\ncreative\n• How to overcome the key challenges of online advertising and\nmaximize ROAS \nModule 4: FACEBOOK AND INSTAGRAM MARKETING \n• Facebook Content Marketing Best Practices\n• Setting a Facebook Content Strategy\n• Moderation and Reputation Management\n• Best Practices for using Facebook\n• Instagram and its role in your Marketing efforts\n• Instagram and how to make sure of it effective\n• Facebook & Instagram Advertising\n• Introduction to Meta Business Manager \nModule 5: LINKEDIN AND TIK TOK MARKETING \n• Personal & Corporate LinkedIn Pages\n• Advertising On LinkedIn and ad formats\n• Tik Tok basics – setting up profile for business\n• How to increase engagement on Tik Tok\n• Trending Challenges and Music usage\n• Hashtag Marketing & Influencer marketing\n• Creating and editing Tik Tok Video\n• Tik Tok Ads Manager \nModule 6: ANALYTICS AND DATA INTERPRETATION \n• Facebook Insights\n• Return of Ads Spent (ROAS) Calculations\n• Competitor Analysis\n• Refining Social Media Strategies from Analytics \nModule 7: LOYALTY MARKETING \n• What Is Loyalty Marketing?\n• Identifying your loyal customers\n• Benefits of Loyalty Marketing – a continuous effort\n• Develop and Implement Your Own Loyalty Strategy
URL:https://www.excelacademy.my/event/hrd-corp-claimable-social-media-marketing-7/
LOCATION:Armada Hotel\, Lot 6\, Lorong Utara C\, Section 52\, Petaling Jaya\, Selangor\, 46200\, Malaysia
CATEGORIES:Social Media Marketing
ATTACH;FMTTYPE=image/webp:https://www.excelacademy.my/wp/wp-content/uploads/2024/03/HRDCorpClaimableCourse_Social_Media_Marketing_Aug2024.webp
ORGANIZER;CN="Excel Academy":MAILTO:training@excelacademy.my
END:VEVENT
END:VCALENDAR