BEGIN:VCALENDAR
VERSION:2.0
PRODID:-//Excel Academy Malaysia - HRD Corp Approved Training Provider - ECPv6.15.20//NONSGML v1.0//EN
CALSCALE:GREGORIAN
METHOD:PUBLISH
X-ORIGINAL-URL:https://www.excelacademy.my
X-WR-CALDESC:Events for Excel Academy Malaysia - HRD Corp Approved Training Provider
REFRESH-INTERVAL;VALUE=DURATION:PT1H
X-Robots-Tag:noindex
X-PUBLISHED-TTL:PT1H
BEGIN:VTIMEZONE
TZID:Asia/Kuala_Lumpur
BEGIN:STANDARD
TZOFFSETFROM:+0800
TZOFFSETTO:+0800
TZNAME:+08
DTSTART:20250101T000000
END:STANDARD
END:VTIMEZONE
BEGIN:VEVENT
DTSTART;TZID=Asia/Kuala_Lumpur:20261202T090000
DTEND;TZID=Asia/Kuala_Lumpur:20261203T170000
DTSTAMP:20260423T182114
CREATED:20260115T035757Z
LAST-MODIFIED:20260409T082105Z
UID:14387-1796202000-1796317200@www.excelacademy.my
SUMMARY:HRD Corp Claimable - Canva AI Bootcamp: Optimizing your Design
DESCRIPTION:Download The Course Brochure Link \nIn today’s fast-paced digital world\, successful business communication demands more than just\nwords—it requires compelling\, on-brand visuals that capture attention and tell a story. This intensive\ntwo-day course is designed for business professionals\, from beginners to intermediates\, who want to\nmaster the art of visual content creation to enhance their marketing and corporate communication.\nThrough a unique combination of foundational design principles and practical\, hands-on exercises\,\nyou will learn to transform ideas into compelling business assets and also gain a comprehensive\nunderstanding of how visual content impacts customer engagement and brand recognition in the\ndigital world. By the end of this course\, you’ll learn to navigate the Canva platform with ease\, even if you\nhave no prior graphic design experience\, and harness its potential to create stunning graphics for\nsocial media\, product presentations\, and beyond. \nWhat will you learn in this Canva AI Bootcamp : Optimizing Your Design?\n\nCraft designs that convey a clear narrative and resonate with specific target audiences across\nvarious platforms.\nBe proficient in using Canva’s intuitive interface\, making design accessible even to those with no prior graphic design experience.\nExplore Canva’s extensive template library and discover how to customize and personalize templates to create designs that align with their brand identity and message.\nEquipped with the knowledge and techniques to expedite design workflows\, saving time and\nresources while achieving impactful results.\nDevelop optimized and collaborative workflows using Canva’s tools. Utilize a variety of Canva’s AI-powered tools\, to streamline the creative process and save significant time.\n\nCourse Outline\nModule 1: Foundations & Marketing Design: Introduction To Visual Storytelling\n– Importance of visuals in digital marketing and brand engagement.\n– Core principles of effective design: color\, typography\, composition.\n– Visual storytelling applicable to social media and digital platforms.\n– Discussion & Sharing : visual content from various industries. \nModule 2: Maximizing Canva’s Free Features\n– Overview of Canva’s free features and interface.\n– Principles of visual narrative for various media formats.\n– Crafting compelling designs with free elements and photos.\n– Creating and managing reusable templates within the free version.\n– Hands-on: Create a product/service flyer that applies the design principles. \nModule 3: Photo Editing & Animation for Canva\n– Introduction to Canva’s photo editing tools (filters\, adjustments\, cropping\, background\nremover).\n– Enhancing product photos for marketing materials.\n– Exploring the animation feature and video feature in Canva.\n– Hands-on: Create a social media posts using optimized photos and/or animation. \nModule 4: Branding and Consistency\n– Developing brand assets\, such as a makeshift brand kit.\n– Maintaining consistency in designs across different mediums.\n– Build a mini brand kit for an organizational initiative.\n– Hands-on: Create a mini brand kit. \nModule 5: Enhancing Productivity with Canva Docs and Sheets\n– Introduction to Canva Docs: a new approach to business documents.\n– Using Docs to draft reports\, proposals\, and meeting notes.\n– Hands-on: Create a structured project brief or meeting agenda in Docs.\n– Introduction to Canva Sheets: visualizing data within Canva.\n– Creating simple charts and graphs from data.\n– Hands-on: Import data to create a simple chart in Sheets. \nModule 6: AI Tools and Canva\n– Overview of AI capabilities in Canva.\n– Utilizing Text to Image for unique visual assets.\n– Exploring AI-assisted design suggestions for reports and presentations.\n– Hands-on: Create a series of AI-enhanced visuals for a visual. \nModule 7: Designing Impactful Reports & Presentations\n– Best practices for optimizing designs for performance and clarity.\n– Structuring reports and presentations for a clear\, professional narrative.\n– Publishing and sharing content efficiently.\n– Hands-on: Design a simple presentation deck. \nModule 8: Canva for Website\n– Explore the benefits of websites and the key principles of website creation.\n– Introduction to creating simple\, professional landing pages in Canva.\n– Final project: Create a one-page website as conclusion of the course.
URL:https://www.excelacademy.my/event/hrd-corp-claimable-microsoft-power-bi-with-ai-tools-data-analysis-and-visual-reporting-9/
LOCATION:Armada Hotel\, Lot 6\, Lorong Utara C\, Section 52\, Petaling Jaya\, Selangor\, 46200\, Malaysia
CATEGORIES:Canva,Graphic Design,Multimedia
ATTACH;FMTTYPE=image/png:https://www.excelacademy.my/wp/wp-content/uploads/2026/01/DEC2026_Canva.png
ORGANIZER;CN="Excel Academy":MAILTO:training@excelacademy.my
END:VEVENT
END:VCALENDAR