BEGIN:VCALENDAR
VERSION:2.0
PRODID:-//Excel Academy Malaysia - HRD Corp Approved Training Provider - ECPv6.15.20//NONSGML v1.0//EN
CALSCALE:GREGORIAN
METHOD:PUBLISH
X-ORIGINAL-URL:https://www.excelacademy.my
X-WR-CALDESC:Events for Excel Academy Malaysia - HRD Corp Approved Training Provider
REFRESH-INTERVAL;VALUE=DURATION:PT1H
X-Robots-Tag:noindex
X-PUBLISHED-TTL:PT1H
BEGIN:VTIMEZONE
TZID:Asia/Kuala_Lumpur
BEGIN:STANDARD
TZOFFSETFROM:+0800
TZOFFSETTO:+0800
TZNAME:+08
DTSTART:20220101T000000
END:STANDARD
END:VTIMEZONE
BEGIN:VEVENT
DTSTART;TZID=Asia/Kuala_Lumpur:20230822T080000
DTEND;TZID=Asia/Kuala_Lumpur:20230823T170000
DTSTAMP:20260426T042329
CREATED:20230728T075704Z
LAST-MODIFIED:20230728T075704Z
UID:9259-1692691200-1692810000@www.excelacademy.my
SUMMARY:HRD Corp Claimable - Graphic Design
DESCRIPTION:The graphic design course will first start with the Adobe Photoshop aspect. In this session\, you will learn the basic uses of the software and will slowly introduce the more advanced features that the software has After this session\, you will be able to enhance the images of your posters\, flyers\, online banners and others. In other words\, you will be able to leave and edit your own images to your own liking. \nMoving on\, our training will commence with Adobe Illustrator aspect. Our Illustrator training will introduce the powerful pen tool\, which is able to transform existing shapes\, add colour to existing drawn objects\, apply layer effects to artwork\, and many more. This training will benefit where your will be able to design your own logo and create templates for social media posters/ flyers and others. In short\, the set of tools provided by illustrator will provide everything you need to produce extraordinary graphics for print\, the web and others. \n  \nHRD Corp Claimable Course\nThis course is not just eligible for HRD Corp claims\, it’s a must-have opportunity for those looking to invest in their personal and professional growth. By taking advantage of the organization’s human resource development program and getting reimbursed for the cost of the course\, you’ll not only be boosting your skillset and increasing your knowledge\, but you’ll also be maximizing the benefits offered by your employer. Don’t miss out on this incredible opportunity to enhance your career and secure your future success. Make the investment in yourself today and claim your spot in this valuable course. \n  \nCourse Outline\nADOBE PHOTOSHOP\n• Graphic Design Principles\n• Introduction to Adobe Photoshop\n• Layer styles and how to combine image\n• Object selection and masking\n• Image composition\n• Transform and distort\n• Colour correction (Camera Raw Filter)\n• Typography\n• Blend Modes and Adjustment\n• Shapes and gradient\n• Blur and Filter\n• Prepare a poster for social media \nADOBE ILLUSTRATOR\n• Introduction to Adobe Illustrator\n• Drawing with shape using the Shape Builder Tool\n• Tracing with Pen Tool and Curvature Tool\n• Layer Effects\n• Create colour palette using the Blend Tool\n• Apply gradients\, warp effects\, blends\, and other styles to shapes in Illustrator\n• Typography techniques\n• Convert raster images to vector\n• Prepare Illustrator files for handover\n• Creating Logos \n  \nFor more information about our Data Analytics and Visualization In Excel\, contact us at 1700-81-5520 or email us at training@excelacademy.my. To keep updated with our training you can follow us on Facebook\, https://www.facebook.com/excelacademyofexecutiveeducation \nCheck out other courses: https://www.excelacademy.my/hrdcorp-claimablecourse/
URL:https://www.excelacademy.my/event/hrd-corp-claimable-graphic-design/
LOCATION:Armada Hotel\, Lot 6\, Lorong Utara C\, Section 52\, Petaling Jaya\, Selangor\, 46200\, Malaysia
CATEGORIES:Multimedia
ATTACH;FMTTYPE=image/webp:https://www.excelacademy.my/wp/wp-content/uploads/2023/07/HRDCorpClaimableCourse-Graphic-Design-Intermediate-Level-AUG.webp
ORGANIZER;CN="Excel Academy":MAILTO:training@excelacademy.my
END:VEVENT
END:VCALENDAR