BEGIN:VCALENDAR
VERSION:2.0
PRODID:-//Excel Academy Malaysia - HRD Corp Approved Training Provider - ECPv6.15.20//NONSGML v1.0//EN
CALSCALE:GREGORIAN
METHOD:PUBLISH
X-WR-CALNAME:Excel Academy Malaysia - HRD Corp Approved Training Provider
X-ORIGINAL-URL:https://www.excelacademy.my
X-WR-CALDESC:Events for Excel Academy Malaysia - HRD Corp Approved Training Provider
REFRESH-INTERVAL;VALUE=DURATION:PT1H
X-Robots-Tag:noindex
X-PUBLISHED-TTL:PT1H
BEGIN:VTIMEZONE
TZID:Asia/Kuala_Lumpur
BEGIN:STANDARD
TZOFFSETFROM:+0800
TZOFFSETTO:+0800
TZNAME:+08
DTSTART:20220101T000000
END:STANDARD
END:VTIMEZONE
BEGIN:VEVENT
DTSTART;TZID=Asia/Kuala_Lumpur:20230725T090000
DTEND;TZID=Asia/Kuala_Lumpur:20230726T170000
DTSTAMP:20260426T061028
CREATED:20230104T013635Z
LAST-MODIFIED:20230711T070936Z
UID:7133-1690275600-1690390800@www.excelacademy.my
SUMMARY:HRD Corp Claimable - Video Editing Course
DESCRIPTION:The video editing course will begin with Adobe After Effects. This session will provide you with the skills to create\, edit and compound digital video with desired effects\, for the purposes of post-production\, presentation\, instructional\, and visual messaging content. Examples of what you will learn are motion graphics\, text animation\, and others. In short\, our After Effects course will provide ways to enhance the features of video to make it more exciting and engaging. \nNext\, our video editing course will continue with the Adobe Premiere Pro aspect. This session will provide the essential editing skills to boost your video editing skills. Examples of the lessons that you will learn are such as how to completely edit a video such as adjusting the volume of the video to the desired level\, video formatting\, dynamic trimming\, and many more. In a nutshell\, by attending our Premiere Pro session\, you will be able to graphic design\, and easily manage and edit videos. \n  \nVideo Editing Course Learning Outcomes?\n\nDevelop display ad campaigns\nPromote your company using FB pocket TVC\nCreate marketing videos in various sizes and formats\nLearn industry insider video production terms\nCommunicate better with ad agencies and design teams\n\n  \nCourse Outline\nADOBE AFTER EFFECT \n– Introduction FB pocket TVC \n– Introduction to After effects \n– Work Photoshop/illustrator with aftereffects \n– Motion Graphics \n– Text Animation \n– Create FB pocket TVC \n  \nADOBE PREMIERE \n– Video productions \n– Camera works \n– Introduction to Adobe premiere \n– Video Transition \n– Video Cutting Techniques \n– Titles \n– Video motion and effects \n– Audio \n– Video formats \n– Video editing and publishing \n  \nFor more information about our Video Editing course\, contact us at 1700-81-5520 or email us at training@excelacademy.my. To keep updated with our training you can follow us on Facebook\, https://www.facebook.com/excelacademyofexecutiveeducation  \nCheck out other courses\, https://www.excelacademy.my/hrdcorp-claimablecourse/
URL:https://www.excelacademy.my/event/hrd-corp-claimable-video-editing-course-july-2023/
LOCATION:Selangor
CATEGORIES:Multimedia,Public training/course
ATTACH;FMTTYPE=image/webp:https://www.excelacademy.my/wp/wp-content/uploads/2023/01/HRDCorpClaimableCourse_Video_Editing_7_JULY.webp
ORGANIZER;CN="Excel Academy":MAILTO:training@excelacademy.my
END:VEVENT
END:VCALENDAR